BEGIN:VCALENDAR
VERSION:2.0
PRODID:-//waterwaywarriorsfl.org//NONSGML kigkonsult.se iCalcreator 2.30.10
 //
CALSCALE:GREGORIAN
METHOD:PUBLISH
UID:046d5205-0058-4264-ba62-9a97e89ff696
X-WR-CALDESC:The Cocoa Rotary and Waterway Warriors are teaming up for a po
 werful cleanup at Bracco Pond Park\, one of Cocoa’s hidden environmental h
 eroes! This park’s incorporated pond is a crucial part of the stormwater s
 ystem and the last stop before runoff flows into the Indian River. That me
 ans every piece of trash we remove makes a direct\, meaningful impact.\n\n
 Grab your friends\, lace up your closed-toed shoes\, and join our teams as
  we clear debris\, protect wildlife\, and stop pollution before it reaches
  the lagoon.\nLet’s make a difference together—see you at Bracco Pond Park
 ! \n\nWHAT TO BRING: WEAR CLOSED-TOED SHOES\, BRING GLOVES\, AND YOUR OWN 
 HYDRATION. We supply everything else.\n\nWHERE TO MEET: Meet in the parkin
 g lot of Bracco Pond Park   950 Plaza Pkwy\, Cocoa\, FL 32922\n\nMinors be
 tween the ages of 12-18 must have a completed and signed Minor Permission 
 Form (below)\n\n
X-WR-RELCALID:b55de027c2e8cffc6bacc286bdb3b198
X-WR-TIMEZONE:America/New_York
BEGIN:VTIMEZONE
TZID:America/New_York
BEGIN:STANDARD
TZNAME:EST
DTSTART:20271107T020000
TZOFFSETFROM:-0400
TZOFFSETTO:-0500
RDATE:20281105T020000
END:STANDARD
BEGIN:DAYLIGHT
TZNAME:EDT
DTSTART:20270314T020000
TZOFFSETFROM:-0500
TZOFFSETTO:-0400
RDATE:20280312T020000
RDATE:20290311T020000
END:DAYLIGHT
END:VTIMEZONE
BEGIN:VEVENT
UID:9fc3e4dc-9f1c-42d6-8476-a2634ffc3c04
DTSTAMP:20260420T072827Z
DESCRIPTION:The Cocoa Rotary and Waterway Warriors are teaming up for a pow
 erful cleanup at Bracco Pond Park\, one of Cocoa’s hidden environmental he
 roes! This park’s incorporated pond is a crucial part of the stormwater sy
 stem and the last stop before runoff flows into the Indian River. That mea
 ns every piece of trash we remove makes a direct\, meaningful impact.\n\nG
 rab your friends\, lace up your closed-toed shoes\, and join our teams as 
 we clear debris\, protect wildlife\, and stop pollution before it reaches 
 the lagoon.\nLet’s make a difference together—see you at Bracco Pond Park!
  \n\nWHAT TO BRING: WEAR CLOSED-TOED SHOES\, BRING GLOVES\, AND YOUR OWN H
 YDRATION. We supply everything else.\n\nWHERE TO MEET: Meet in the parking
  lot of Bracco Pond Park   950 Plaza Pkwy\, Cocoa\, FL 32922\n\nMinors bet
 ween the ages of 12-18 must have a completed and signed Minor Permission F
 orm (below)\n\n
DTSTART;TZID=America/New_York:20280226T060000
DTEND;TZID=America/New_York:20280226T060001
LOCATION:950 Plaza Pkwy\, Cocoa\, AL 32922 US
SUMMARY:Bracco Pond Park - COCOA ROTARY/WW CLEANUP
END:VEVENT
END:VCALENDAR
