BEGIN:VCALENDAR
VERSION:2.0
PRODID:-//waterwaywarriorsfl.org//NONSGML kigkonsult.se iCalcreator 2.30.10
 //
CALSCALE:GREGORIAN
METHOD:PUBLISH
UID:aa425f9a-0b9a-4632-b050-6ba9abb63ba4
X-WR-CALDESC:Because trash travelsâ€”and Waterway Warriors go where the need 
 is greatest\, we donâ€™t schedule our cleanup locations more than about two 
 months in advance. This flexibility allows us to respond quickly to areas 
 where trash is building up and make the biggest impact.\n\nWhat you can co
 unt on is the schedule: Waterway Warriors cleanups happen every 2nd and 4t
 h Saturday of the month somewhere in Brevard County.\n\nðŸ“…Add the dates to 
 your calendar and check back for the specific cleanup locations as theyâ€™re
  announced.\nTogether\, weâ€™ll keep stopping trash before it reaches our wa
 terways! ðŸŒŠŸ’ª
X-WR-RELCALID:784bc19a3fba923b221a83a52038539e
X-WR-TIMEZONE:America/New_York
BEGIN:VTIMEZONE
TZID:America/New_York
BEGIN:STANDARD
TZNAME:EST
DTSTART:20271107T020000
TZOFFSETFROM:-0400
TZOFFSETTO:-0500
RDATE:20281105T020000
END:STANDARD
BEGIN:DAYLIGHT
TZNAME:EDT
DTSTART:20270314T020000
TZOFFSETFROM:-0500
TZOFFSETTO:-0400
RDATE:20280312T020000
RDATE:20290311T020000
END:DAYLIGHT
END:VTIMEZONE
BEGIN:VEVENT
UID:ade8b6e3-68ff-438d-9a4f-cb6267a9d823
DTSTAMP:20260420T061039Z
DESCRIPTION:Because trash travelsâ€”and Waterway Warriors go where the need i
 s greatest\, we donâ€™t schedule our cleanup locations more than about two m
 onths in advance. This flexibility allows us to respond quickly to areas w
 here trash is building up and make the biggest impact.\n\nWhat you can cou
 nt on is the schedule: Waterway Warriors cleanups happen every 2nd and 4th
  Saturday of the month somewhere in Brevard County.\n\nðŸ“…Add the dates to y
 our calendar and check back for the specific cleanup locations as theyâ€™re 
 announced.\nTogether\, weâ€™ll keep stopping trash before it reaches our wat
 erways! ðŸŒŠŸ’ª
DTSTART;TZID=America/New_York:20280108T080000
DTEND;TZID=America/New_York:20280108T100000
LOCATION:
SUMMARY:Group Cleanup Event - Location TBD
END:VEVENT
END:VCALENDAR
