BEGIN:VCALENDAR
VERSION:2.0
PRODID:-//waterwaywarriorsfl.org//NONSGML kigkonsult.se iCalcreator 2.30.10
 //
CALSCALE:GREGORIAN
METHOD:PUBLISH
UID:c9f8e309-d57b-4cd3-981b-f530237bdc13
X-WR-CALDESC:Join us for Barrel Prep Day as we transform donated soap barre
 ls into tools for clean waterways! We're cutting tops\, drilling holes\, i
 nstalling hardware\, and applying stickers—every set of hands makes a diff
 erence.\n\nNo special skills required—just a willingness to help and maybe
  get a little sweaty. Grab your gloves\, bring a friend\, and let’s prep s
 ome barrels!\n\nIf you have a drill driver that you wouldn't mind using at
  the event\, please bring it.  \n\nALL HANDS ON DECK - LET'S DO THIS!!\n\n
 WHAT TO BRING: WEAR CLOSED-TOED SHOES AND BRING GLOVES. We supply everythi
 ng else.\n\nWHERE TO MEET: Meet at the old Satellite Beach Fire Department
  Building  1390 S. Patrick Dr.\, Satellite Beach\n\nUNDER AGE 18 PARTICIPA
 NTS ARE WELCOME: If a volunteer under the age of 18 wishes to participate 
 in this event\, a Minor Permission Form must be completed. The form must b
 e signed by a parent or legal guardian and submitted to Waterway Warriors 
 prior to participating in the event. Minors will not be allowed to partici
 pate without this signed form on file. See link below...\n
X-WR-RELCALID:468f3ef39f67fb696adbf34cb45d8719
X-WR-TIMEZONE:America/New_York
BEGIN:VTIMEZONE
TZID:America/New_York
BEGIN:STANDARD
TZNAME:EST
DTSTART:20241103T020000
TZOFFSETFROM:-0400
TZOFFSETTO:-0500
RDATE:20251102T020000
RDATE:20261101T020000
END:STANDARD
BEGIN:DAYLIGHT
TZNAME:EDT
DTSTART:20250309T020000
TZOFFSETFROM:-0500
TZOFFSETTO:-0400
RDATE:20260308T020000
END:DAYLIGHT
END:VTIMEZONE
BEGIN:VEVENT
UID:59f62383-dc24-4c40-bb46-0256b6d7c7e5
DTSTAMP:20260421T092037Z
DESCRIPTION:Join us for Barrel Prep Day as we transform donated soap barrel
 s into tools for clean waterways! We're cutting tops\, drilling holes\, in
 stalling hardware\, and applying stickers—every set of hands makes a diffe
 rence.\n\nNo special skills required—just a willingness to help and maybe 
 get a little sweaty. Grab your gloves\, bring a friend\, and let’s prep so
 me barrels!\n\nIf you have a drill driver that you wouldn't mind using at 
 the event\, please bring it.  \n\nALL HANDS ON DECK - LET'S DO THIS!!\n\nW
 HAT TO BRING: WEAR CLOSED-TOED SHOES AND BRING GLOVES. We supply everythin
 g else.\n\nWHERE TO MEET: Meet at the old Satellite Beach Fire Department 
 Building  1390 S. Patrick Dr.\, Satellite Beach\n\nUNDER AGE 18 PARTICIPAN
 TS ARE WELCOME: If a volunteer under the age of 18 wishes to participate i
 n this event\, a Minor Permission Form must be completed. The form must be
  signed by a parent or legal guardian and submitted to Waterway Warriors p
 rior to participating in the event. Minors will not be allowed to particip
 ate without this signed form on file. See link below...\n
DTSTART;TZID=America/New_York:20250712T080000
DTEND;TZID=America/New_York:20250712T130000
LOCATION:1390 S. Patrick Dr\, Satellite Beach\, FL 32937 US
SUMMARY:Group Barrel Prep - ALL HANDS NEEDED!
END:VEVENT
END:VCALENDAR
