BEGIN:VCALENDAR
VERSION:2.0
PRODID:-//waterwaywarriorsfl.org//NONSGML kigkonsult.se iCalcreator 2.30.10
 //
CALSCALE:GREGORIAN
METHOD:PUBLISH
UID:026e80f6-7893-4eb8-805a-e33488828b01
X-WR-CALDESC:Join us as we celebrate the official adoption of Eau Gallie We
 st with a short ribbon cutting ceremony\, followed by a group cleanup to k
 ick things off the Waterway Warriors style!\n\nCome be a part of the celeb
 ration\, bring your cleanup spirit\, and help us make a difference from da
 y one. Wear CLOSED-TOED SHOES and your Waterway Warrior ENERGY!  We’d love
  to see you there!\n\nWHAT TO BRING:  WEAR CLOSED-TOED SHOES\, BRING GLOVE
 S AND YOUR OWN HYDRATION.  We supply everything else.\n\nWHERE TO MEET: Me
 et in the parking lot of Squid Lips Restaurant - 1477 Pineapple Avenue\, M
 elbourne\, FL 32935\n\nUNDER AGE 18 PARTICIPANTS: If a volunteer under the
  age of 18 wishes to participate in a cleanup\, a Minor Permission Form mu
 st be completed. The form must be signed by a parent or legal guardian and
  submitted to Waterway Warriors prior to participating in the event. Minor
 s will not be allowed to participate without this signed form on file.  Se
 e link below...\n\n\n\n\n\n\n\n\n
X-WR-RELCALID:8631d2bec617c885f2871222f22f7f6d
X-WR-TIMEZONE:America/New_York
BEGIN:VTIMEZONE
TZID:America/New_York
BEGIN:STANDARD
TZNAME:EST
DTSTART:20241103T020000
TZOFFSETFROM:-0400
TZOFFSETTO:-0500
RDATE:20251102T020000
RDATE:20261101T020000
END:STANDARD
BEGIN:DAYLIGHT
TZNAME:EDT
DTSTART:20250309T020000
TZOFFSETFROM:-0500
TZOFFSETTO:-0400
RDATE:20260308T020000
END:DAYLIGHT
END:VTIMEZONE
BEGIN:VEVENT
UID:0998ee20-4a54-4e8a-92fe-dced6216a8f6
DTSTAMP:20260419T122112Z
DESCRIPTION:Join us as we celebrate the official adoption of Eau Gallie Wes
 t with a short ribbon cutting ceremony\, followed by a group cleanup to ki
 ck things off the Waterway Warriors style!\n\nCome be a part of the celebr
 ation\, bring your cleanup spirit\, and help us make a difference from day
  one. Wear CLOSED-TOED SHOES and your Waterway Warrior ENERGY!  We’d love 
 to see you there!\n\nWHAT TO BRING:  WEAR CLOSED-TOED SHOES\, BRING GLOVES
  AND YOUR OWN HYDRATION.  We supply everything else.\n\nWHERE TO MEET: Mee
 t in the parking lot of Squid Lips Restaurant - 1477 Pineapple Avenue\, Me
 lbourne\, FL 32935\n\nUNDER AGE 18 PARTICIPANTS: If a volunteer under the 
 age of 18 wishes to participate in a cleanup\, a Minor Permission Form mus
 t be completed. The form must be signed by a parent or legal guardian and 
 submitted to Waterway Warriors prior to participating in the event. Minors
  will not be allowed to participate without this signed form on file.  See
  link below...\n\n\n\n\n\n\n\n\n
DTSTART;TZID=America/New_York:20250628T080000
DTEND;TZID=America/New_York:20250628T100000
LOCATION:1477 Pineapple Avenue\, Melbourne\, AL 32935 US
SUMMARY:RIBBON CUTTING & Group Cleanup - Eau Gallie West Causeway
END:VEVENT
END:VCALENDAR
