BEGIN:VCALENDAR
VERSION:2.0
PRODID:-//waterwaywarriorsfl.org//NONSGML kigkonsult.se iCalcreator 2.30.10
 //
CALSCALE:GREGORIAN
METHOD:PUBLISH
UID:75f58e81-e028-4c2f-8de6-8b1b004ea123
X-WR-CALDESC:Join us in making a positive impact on our environment by part
 icipating in a cleanup event along the waterways of Horse Creek\, a tribut
 ary along US1 in Melbourne. Whether you're a seasoned eco-warrior or a fir
 st-time volunteer\, your efforts make a serious impact in protecting marin
 e life\, and keep our local waterways looking their best.\n\nWHAT TO BRING
 :  WEAR CLOSED-TOED SHOES\, BRING GLOVES AND YOUR OWN HYDRATION.  We suppl
 y everything else.\n\nWHERE TO MEET:  Staging will be in the parking lot o
 f the Harbor City Professional Building at 3700 N Harbor City Blvd\, Melbo
 urne FL 32935
X-WR-RELCALID:1877e1eb379dcb2b31f2bf8baaa909f7
X-WR-TIMEZONE:America/New_York
BEGIN:VTIMEZONE
TZID:America/New_York
BEGIN:STANDARD
TZNAME:EST
DTSTART:20241103T020000
TZOFFSETFROM:-0400
TZOFFSETTO:-0500
RDATE:20251102T020000
RDATE:20261101T020000
END:STANDARD
BEGIN:DAYLIGHT
TZNAME:EDT
DTSTART:20250309T020000
TZOFFSETFROM:-0500
TZOFFSETTO:-0400
RDATE:20260308T020000
END:DAYLIGHT
END:VTIMEZONE
BEGIN:VEVENT
UID:d7df04bd-c2ce-4741-9f74-cc4a10a3d688
DTSTAMP:20260419T122228Z
DESCRIPTION:Join us in making a positive impact on our environment by parti
 cipating in a cleanup event along the waterways of Horse Creek\, a tributa
 ry along US1 in Melbourne. Whether you're a seasoned eco-warrior or a firs
 t-time volunteer\, your efforts make a serious impact in protecting marine
  life\, and keep our local waterways looking their best.\n\nWHAT TO BRING:
   WEAR CLOSED-TOED SHOES\, BRING GLOVES AND YOUR OWN HYDRATION.  We supply
  everything else.\n\nWHERE TO MEET:  Staging will be in the parking lot of
  the Harbor City Professional Building at 3700 N Harbor City Blvd\, Melbou
 rne FL 32935
DTSTART;TZID=America/New_York:20250614T080000
DTEND;TZID=America/New_York:20250614T100000
LOCATION:3700 N Harbor City Blvd\, Melbourne\, AL 32935 US
SUMMARY:Group Cleanup - Horse Creek
END:VEVENT
END:VCALENDAR
