BEGIN:VCALENDAR
VERSION:2.0
PRODID:-//waterwaywarriorsfl.org//NONSGML kigkonsult.se iCalcreator 2.30.10
 //
CALSCALE:GREGORIAN
METHOD:PUBLISH
UID:b42a8145-3694-4ca1-83d3-0f91e9b22d29
X-WR-CALDESC:Tire Island 2.0... PRIVATE EVENT ONLY FOR PREVIOUS PARTICIPANT
 S OF TIRE ISLAND 1.0
X-WR-RELCALID:7848f47a4a1ca95362f0f46ee5b25ead
X-WR-TIMEZONE:America/New_York
BEGIN:VTIMEZONE
TZID:America/New_York
BEGIN:STANDARD
TZNAME:EST
DTSTART:20241103T020000
TZOFFSETFROM:-0400
TZOFFSETTO:-0500
RDATE:20251102T020000
RDATE:20261101T020000
END:STANDARD
BEGIN:DAYLIGHT
TZNAME:EDT
DTSTART:20250309T020000
TZOFFSETFROM:-0500
TZOFFSETTO:-0400
RDATE:20260308T020000
END:DAYLIGHT
END:VTIMEZONE
BEGIN:VEVENT
UID:7e26ea06-407a-4dcc-b725-ae1fa38d23bf
DTSTAMP:20260419T134107Z
DESCRIPTION:Tire Island 2.0... PRIVATE EVENT ONLY FOR PREVIOUS PARTICIPANTS
  OF TIRE ISLAND 1.0
DTSTART;TZID=America/New_York:20250517T080000
DTEND;TZID=America/New_York:20250517T130000
LOCATION:401 Ramp Road\, Cocoa Beach\, FL 32931 US
SUMMARY:Tire Island 2.0 - PRIVATE EVENT
END:VEVENT
END:VCALENDAR
