BEGIN:VCALENDAR
VERSION:2.0
PRODID:-//waterwaywarriorsfl.org//NONSGML kigkonsult.se iCalcreator 2.30.10
 //
CALSCALE:GREGORIAN
METHOD:PUBLISH
UID:62cf43e1-cd55-4329-8f06-3b6225c6b44f
X-WR-CALDESC:Join us making a significant impact along the waterways of the
  Eau Gallie River. Whether you're a seasoned eco-warrior or a first-time v
 olunteer\, your efforts protect marine life\, and keep our local waterways
  looking their best.\n\nWHAT TO BRING:  WEAR CLOSED-TOED SHOES\, BRING GLO
 VES AND YOUR OWN HYDRATION.  We supply everything else.\n\nWHERE TO MEET: 
 Meet in the parking lot of the Eau Gallie High School  1400 Commodore Blvd
 \, Melbourne\, FL 32935\n
X-WR-RELCALID:e53cd600b1adaa6cbc1955ea991c56d0
X-WR-TIMEZONE:America/New_York
BEGIN:VTIMEZONE
TZID:America/New_York
BEGIN:STANDARD
TZNAME:EST
DTSTART:20241103T020000
TZOFFSETFROM:-0400
TZOFFSETTO:-0500
RDATE:20251102T020000
RDATE:20261101T020000
END:STANDARD
BEGIN:DAYLIGHT
TZNAME:EDT
DTSTART:20250309T020000
TZOFFSETFROM:-0500
TZOFFSETTO:-0400
RDATE:20260308T020000
END:DAYLIGHT
END:VTIMEZONE
BEGIN:VEVENT
UID:7ef5da60-48dd-4b77-a3e3-7220f88369b8
DTSTAMP:20260419T132337Z
DESCRIPTION:Join us making a significant impact along the waterways of the 
 Eau Gallie River. Whether you're a seasoned eco-warrior or a first-time vo
 lunteer\, your efforts protect marine life\, and keep our local waterways 
 looking their best.\n\nWHAT TO BRING:  WEAR CLOSED-TOED SHOES\, BRING GLOV
 ES AND YOUR OWN HYDRATION.  We supply everything else.\n\nWHERE TO MEET: M
 eet in the parking lot of the Eau Gallie High School  1400 Commodore Blvd\
 , Melbourne\, FL 32935\n
DTSTART;TZID=America/New_York:20250510T080000
DTEND;TZID=America/New_York:20250510T100000
LOCATION:1400 Commodore Blvd\, Melbourne\, FL 32935 US
SUMMARY:Group Cleanup - Eau Gallie River
END:VEVENT
END:VCALENDAR
