BEGIN:VCALENDAR
VERSION:2.0
PRODID:-//waterwaywarriorsfl.org//NONSGML kigkonsult.se iCalcreator 2.30.10
 //
CALSCALE:GREGORIAN
METHOD:PUBLISH
UID:f0b30a6a-3602-44f4-b5d7-c858574a4db1
X-WR-CALDESC:PRIVATE Cleanup Event coordinating with Frigates Restaurant to
  help make a big difference in just a few hours.  Let's tackle the trash t
 ogether... Your small effort can have a huge impact on the beauty and heal
 th of our local waterways!\n\nWEAR CLOSED-TOED SHOES\, BRING GLOVES\, AND 
 YOUR OWN HYDRATION.  We take care of the rest.\n\nMEET:  Frigates Office a
 t 990 N Harbor City Blvd\, Melbourne FL 32935
X-WR-RELCALID:efec6996fbc84ab58df6b7ed78af9fb4
X-WR-TIMEZONE:America/New_York
BEGIN:VTIMEZONE
TZID:America/New_York
BEGIN:STANDARD
TZNAME:EST
DTSTART:20241103T020000
TZOFFSETFROM:-0400
TZOFFSETTO:-0500
RDATE:20251102T020000
END:STANDARD
BEGIN:DAYLIGHT
TZNAME:EDT
DTSTART:20250309T020000
TZOFFSETFROM:-0500
TZOFFSETTO:-0400
RDATE:20260308T020000
END:DAYLIGHT
END:VTIMEZONE
BEGIN:VEVENT
UID:f8357e8f-8e5b-4c17-b84b-0a88a88a5f0f
DTSTAMP:20260419T144115Z
DESCRIPTION:PRIVATE Cleanup Event coordinating with Frigates Restaurant to 
 help make a big difference in just a few hours.  Let's tackle the trash to
 gether... Your small effort can have a huge impact on the beauty and healt
 h of our local waterways!\n\nWEAR CLOSED-TOED SHOES\, BRING GLOVES\, AND Y
 OUR OWN HYDRATION.  We take care of the rest.\n\nMEET:  Frigates Office at
  990 N Harbor City Blvd\, Melbourne FL 32935
DTSTART;TZID=America/New_York:20250426T080000
DTEND;TZID=America/New_York:20250426T100000
LOCATION:990 N Harbor City Blvd\, Melbourne\, FL 32935 US
SUMMARY:PRIVATE Cleanup - Frigates
END:VEVENT
END:VCALENDAR
