BEGIN:VCALENDAR
VERSION:2.0
PRODID:-//waterwaywarriorsfl.org//NONSGML kigkonsult.se iCalcreator 2.30.10
 //
CALSCALE:GREGORIAN
METHOD:PUBLISH
UID:2a64556f-0571-422e-903d-5d4847e4eedc
X-WR-CALDESC:Join us in making a positive impact on our environment by part
 icipating in a cleanup event along the waterways of the Eau Gallie Causewa
 y. Whether you're a seasoned eco-warrior or a first-time volunteer\, your 
 efforts make a serious impact in protecting marine life\, and keep our loc
 al waterways looking their best.\n\nWHAT TO BRING:  WEAR CLOSED-TOED SHOES
 \, BRING GLOVES AND YOUR OWN HYDRATION.  We supply everything else.\n\nWHE
 RE TO MEET: Meet in the parking lot of Squid Lips Restaurant - 1477 Pineap
 ple Avenue\, Melbourne\, FL 32935
X-WR-RELCALID:b3f58eb2b7fe1bf4930de076f7ed5678
X-WR-TIMEZONE:America/New_York
BEGIN:VTIMEZONE
TZID:America/New_York
BEGIN:STANDARD
TZNAME:EST
DTSTART:20241103T020000
TZOFFSETFROM:-0400
TZOFFSETTO:-0500
RDATE:20251102T020000
END:STANDARD
BEGIN:DAYLIGHT
TZNAME:EDT
DTSTART:20250309T020000
TZOFFSETFROM:-0500
TZOFFSETTO:-0400
RDATE:20260308T020000
END:DAYLIGHT
END:VTIMEZONE
BEGIN:VEVENT
UID:872069d9-0e38-4735-a9e6-f3c4e504305a
DTSTAMP:20260419T144028Z
DESCRIPTION:Join us in making a positive impact on our environment by parti
 cipating in a cleanup event along the waterways of the Eau Gallie Causeway
 . Whether you're a seasoned eco-warrior or a first-time volunteer\, your e
 fforts make a serious impact in protecting marine life\, and keep our loca
 l waterways looking their best.\n\nWHAT TO BRING:  WEAR CLOSED-TOED SHOES\
 , BRING GLOVES AND YOUR OWN HYDRATION.  We supply everything else.\n\nWHER
 E TO MEET: Meet in the parking lot of Squid Lips Restaurant - 1477 Pineapp
 le Avenue\, Melbourne\, FL 32935
DTSTART;TZID=America/New_York:20250426T080000
DTEND;TZID=America/New_York:20250426T100000
LOCATION:1477 Pineapple Avenue\, Melbourne\, FL 32935 US
SUMMARY:Group Cleanup - Eau Gallie West Causeway
END:VEVENT
END:VCALENDAR
