BEGIN:VCALENDAR
VERSION:2.0
PRODID:-//waterwaywarriorsfl.org//NONSGML kigkonsult.se iCalcreator 2.30.10
 //
CALSCALE:GREGORIAN
METHOD:PUBLISH
UID:40bef487-e4a7-448c-9cc7-d81b25282fdc
X-WR-CALDESC:Join us in making a positive impact on our environment by part
 icipating in a SIMULTANEOUS cleanup event along the waterways of the Pined
 a CausewEay. \n\nThe Land Team will focus on accessible local spots along 
 the waterways\, traversing on foot to collect debris and restore these are
 as. Meanwhile\, the Water/Embankment Team will tackle more challenging loc
 ations. Volunteers for this team will drive to designated access points an
 d then be ferried by boat to steep embankments featuring a mix of concrete
 \, dirt\, grass\, and vegetation.\n\nBoth teams play a vital role in prese
 rving the beauty and health of our waterways—your participation makes all 
 the difference!\n\nWHAT TO BRING:  WEAR CLOSED-TOED SHOES\, BRING GLOVES A
 ND YOUR OWN HYDRATION.  We supply everything else.\n\nWHERE TO MEET:  MEET
  AT POW/MIA PARK - - PINEDA CAUSEWAY AND HIGHWAY US1 IN MELBOURNE\n5995 N 
 US Hwy 1\, Melbourne\, FL 32940    \n\n
X-WR-RELCALID:f9c4b73a1a87164393203bc1fd481631
X-WR-TIMEZONE:America/New_York
BEGIN:VTIMEZONE
TZID:America/New_York
BEGIN:STANDARD
TZNAME:EST
DTSTART:20241103T020000
TZOFFSETFROM:-0400
TZOFFSETTO:-0500
RDATE:20251102T020000
END:STANDARD
BEGIN:DAYLIGHT
TZNAME:EDT
DTSTART:20250309T020000
TZOFFSETFROM:-0500
TZOFFSETTO:-0400
RDATE:20260308T020000
END:DAYLIGHT
END:VTIMEZONE
BEGIN:VEVENT
UID:394be589-c646-4dc9-a644-4b5cc8b574c6
DTSTAMP:20260419T160444Z
DESCRIPTION:Join us in making a positive impact on our environment by parti
 cipating in a SIMULTANEOUS cleanup event along the waterways of the Pineda
  CausewEay. \n\nThe Land Team will focus on accessible local spots along t
 he waterways\, traversing on foot to collect debris and restore these area
 s. Meanwhile\, the Water/Embankment Team will tackle more challenging loca
 tions. Volunteers for this team will drive to designated access points and
  then be ferried by boat to steep embankments featuring a mix of concrete\
 , dirt\, grass\, and vegetation.\n\nBoth teams play a vital role in preser
 ving the beauty and health of our waterways—your participation makes all t
 he difference!\n\nWHAT TO BRING:  WEAR CLOSED-TOED SHOES\, BRING GLOVES AN
 D YOUR OWN HYDRATION.  We supply everything else.\n\nWHERE TO MEET:  MEET 
 AT POW/MIA PARK - - PINEDA CAUSEWAY AND HIGHWAY US1 IN MELBOURNE\n5995 N U
 S Hwy 1\, Melbourne\, FL 32940    \n\n
DTSTART;TZID=America/New_York:20250322T080000
DTEND;TZID=America/New_York:20250322T100000
LOCATION:5995 N US Hwy 1\, Melbourne\, FL 32940 US
SUMMARY:Group Cleanup - MIA POW Park AND Embankment Cleanup (land and water
  simultaneously)
END:VEVENT
END:VCALENDAR
