BEGIN:VCALENDAR
VERSION:2.0
PRODID:-//waterwaywarriorsfl.org//NONSGML kigkonsult.se iCalcreator 2.30.10
 //
CALSCALE:GREGORIAN
METHOD:PUBLISH
UID:5c86dc01-e5ac-4de7-a1f4-1c6b3285d33c
X-WR-CALDESC:The Brevard Business Alliance\, a collaborative of small busin
 esses\, are proudly serving their community by cleaning up an area by the 
 water of the Indian River in Port St John.  If you are a small business\, 
 please join us!
X-WR-RELCALID:57e206d0a38ebcabae2e4f7d419c68ab
X-WR-TIMEZONE:America/New_York
BEGIN:VTIMEZONE
TZID:America/New_York
BEGIN:STANDARD
TZNAME:EST
DTSTART:20241103T020000
TZOFFSETFROM:-0400
TZOFFSETTO:-0500
RDATE:20251102T020000
END:STANDARD
BEGIN:DAYLIGHT
TZNAME:EDT
DTSTART:20250309T020000
TZOFFSETFROM:-0500
TZOFFSETTO:-0400
RDATE:20260308T020000
END:DAYLIGHT
END:VTIMEZONE
BEGIN:VEVENT
UID:99b39bbc-93e1-4113-afb4-34823e0bfa9c
DTSTAMP:20260419T160833Z
DESCRIPTION:The Brevard Business Alliance\, a collaborative of small busine
 sses\, are proudly serving their community by cleaning up an area by the w
 ater of the Indian River in Port St John.  If you are a small business\, p
 lease join us!
DTSTART;TZID=America/New_York:20250315T080000
DTEND;TZID=America/New_York:20250322T100000
LOCATION:6660 N Cocoa Blvd\, Port St John\, FL 32927 US
SUMMARY:Brevard Business Alliance BBA Indian River Cleanup
END:VEVENT
END:VCALENDAR
