BEGIN:VCALENDAR
VERSION:2.0
PRODID:-//waterwaywarriorsfl.org//NONSGML kigkonsult.se iCalcreator 2.30.10
 //
CALSCALE:GREGORIAN
METHOD:PUBLISH
UID:114fde32-95d0-4870-bdc8-3d290ca098da
X-WR-CALDESC:Join us making a significant impact along the waterways of the
  Eau Gallie River. Whether you're a seasoned eco-warrior or a first-time v
 olunteer\, your efforts protect marine life\, and keep our local waterways
  looking their best.\n\nWHAT TO BRING:  WEAR CLOSED-TOED SHOES\, BRING GLO
 VES AND YOUR OWN HYDRATION.  We supply everything else.\n\nWHERE TO MEET: 
 Meet in the parking lot of the Eau Gallie High School  1400 Commodore Blvd
 \, Melbourne\, FL 32935\n
X-WR-RELCALID:09f04a3713a378a1e689e3bd5f74627d
X-WR-TIMEZONE:America/New_York
BEGIN:VTIMEZONE
TZID:America/New_York
BEGIN:STANDARD
TZNAME:EST
DTSTART:20241103T020000
TZOFFSETFROM:-0400
TZOFFSETTO:-0500
RDATE:20251102T020000
END:STANDARD
BEGIN:DAYLIGHT
TZNAME:EDT
DTSTART:20240310T020000
TZOFFSETFROM:-0500
TZOFFSETTO:-0400
RDATE:20250309T020000
RDATE:20260308T020000
END:DAYLIGHT
END:VTIMEZONE
BEGIN:VEVENT
UID:741f5486-d3c0-4c6d-913d-11bdbba5350d
DTSTAMP:20260419T160315Z
DESCRIPTION:Join us making a significant impact along the waterways of the 
 Eau Gallie River. Whether you're a seasoned eco-warrior or a first-time vo
 lunteer\, your efforts protect marine life\, and keep our local waterways 
 looking their best.\n\nWHAT TO BRING:  WEAR CLOSED-TOED SHOES\, BRING GLOV
 ES AND YOUR OWN HYDRATION.  We supply everything else.\n\nWHERE TO MEET: M
 eet in the parking lot of the Eau Gallie High School  1400 Commodore Blvd\
 , Melbourne\, FL 32935\n
DTSTART;TZID=America/New_York:20250308T080000
DTEND;TZID=America/New_York:20250308T100000
LOCATION:1400 Commodore Blvd\, Melbourne\, FL 32935 US
SUMMARY:Group Cleanup - Eau Gallie River
END:VEVENT
END:VCALENDAR
