BEGIN:VCALENDAR
VERSION:2.0
PRODID:-//waterwaywarriorsfl.org//NONSGML kigkonsult.se iCalcreator 2.30.10
 //
CALSCALE:GREGORIAN
METHOD:PUBLISH
UID:d15c47dc-bf0b-467d-a52d-211c170de85a
X-WR-CALDESC:Join us in making a positive impact on our environment by part
 icipating in a SIMULTANEOUS cleanup event along the waterways of the Pined
 a CausewEay. \n\nThe Land Team will focus on accessible local spots along 
 the waterways\, traversing on foot to collect debris and restore these are
 as. Meanwhile\, the Water/Embankment Team will tackle more challenging loc
 ations. Volunteers for this team will drive to designated access points an
 d then be ferried by boat to steep embankments featuring a mix of concrete
 \, dirt\, grass\, and vegetation.\n\nBoth teams play a vital role in prese
 rving the beauty and health of our waterways—your participation makes all 
 the difference!\n\nWHAT TO BRING:  WEAR CLOSED-TOED SHOES\, BRING GLOVES A
 ND YOUR OWN HYDRATION.  We supply everything else.\n\nWHERE TO MEET:  Meet
  under the overpass of SR404 Pineda Causeway off the S Tropical Trail exit
X-WR-RELCALID:dba31d330eab07139344c7ca8a496622
X-WR-TIMEZONE:America/New_York
BEGIN:VTIMEZONE
TZID:America/New_York
BEGIN:STANDARD
TZNAME:EST
DTSTART:20241103T020000
TZOFFSETFROM:-0400
TZOFFSETTO:-0500
RDATE:20251102T020000
END:STANDARD
BEGIN:DAYLIGHT
TZNAME:EDT
DTSTART:20240310T020000
TZOFFSETFROM:-0500
TZOFFSETTO:-0400
RDATE:20250309T020000
RDATE:20260308T020000
END:DAYLIGHT
END:VTIMEZONE
BEGIN:VEVENT
UID:3bb1a13e-84a8-4efc-9749-44af7af3bb2d
DTSTAMP:20260419T173637Z
DESCRIPTION:Join us in making a positive impact on our environment by parti
 cipating in a SIMULTANEOUS cleanup event along the waterways of the Pineda
  CausewEay. \n\nThe Land Team will focus on accessible local spots along t
 he waterways\, traversing on foot to collect debris and restore these area
 s. Meanwhile\, the Water/Embankment Team will tackle more challenging loca
 tions. Volunteers for this team will drive to designated access points and
  then be ferried by boat to steep embankments featuring a mix of concrete\
 , dirt\, grass\, and vegetation.\n\nBoth teams play a vital role in preser
 ving the beauty and health of our waterways—your participation makes all t
 he difference!\n\nWHAT TO BRING:  WEAR CLOSED-TOED SHOES\, BRING GLOVES AN
 D YOUR OWN HYDRATION.  We supply everything else.\n\nWHERE TO MEET:  Meet 
 under the overpass of SR404 Pineda Causeway off the S Tropical Trail exit
DTSTART;TZID=America/New_York:20250222T080000
DTEND;TZID=America/New_York:20250222T100000
LOCATION:
SUMMARY:Group Cleanup Pineda Cswy AND Embankment Cleanup (land and water si
 multaneously)
END:VEVENT
END:VCALENDAR
