BEGIN:VCALENDAR
VERSION:2.0
PRODID:-//waterwaywarriorsfl.org//NONSGML kigkonsult.se iCalcreator 2.30.10
 //
CALSCALE:GREGORIAN
METHOD:PUBLISH
UID:88184826-9e96-44cc-9883-21f459cc6f16
X-WR-CALDESC:Join Waterway Warriors for the Battle of the Causeways\, spons
 ored by KBB! We’ve scouted the perfect cleanup site—WOW\, it’s a big job\,
  but nothing we can’t handle!\n\nJoin us for a fun\, rewarding day making 
 a difference for our waterways. Arrive by 7:45 AM for supplies and the KBB
  safety briefing. WW will provide equipment—just bring closed-toe shoes\, 
 gloves\, and hydration. Let’s do this!
X-WR-RELCALID:713ee38914ff197a1b188aec2c85e4a3
X-WR-TIMEZONE:America/New_York
BEGIN:VTIMEZONE
TZID:America/New_York
BEGIN:STANDARD
TZNAME:EST
DTSTART:20241103T020000
TZOFFSETFROM:-0400
TZOFFSETTO:-0500
RDATE:20251102T020000
END:STANDARD
BEGIN:DAYLIGHT
TZNAME:EDT
DTSTART:20240310T020000
TZOFFSETFROM:-0500
TZOFFSETTO:-0400
RDATE:20250309T020000
RDATE:20260308T020000
END:DAYLIGHT
END:VTIMEZONE
BEGIN:VEVENT
UID:90b17d7f-927c-4c63-accd-f1aff03ecae3
DTSTAMP:20260419T173658Z
DESCRIPTION:Join Waterway Warriors for the Battle of the Causeways\, sponso
 red by KBB! We’ve scouted the perfect cleanup site—WOW\, it’s a big job\, 
 but nothing we can’t handle!\n\nJoin us for a fun\, rewarding day making a
  difference for our waterways. Arrive by 7:45 AM for supplies and the KBB 
 safety briefing. WW will provide equipment—just bring closed-toe shoes\, g
 loves\, and hydration. Let’s do this!
DTSTART;TZID=America/New_York:20250215T073000
DTEND;TZID=America/New_York:20250215T100000
LOCATION:2504 N Banana River Dr\, Merritt Island\, FL 32952 US
SUMMARY:KBB Battle of the Causeways - WW Team
END:VEVENT
END:VCALENDAR
