BEGIN:VCALENDAR
VERSION:2.0
PRODID:-//waterwaywarriorsfl.org//NONSGML kigkonsult.se iCalcreator 2.30.10
 //
CALSCALE:GREGORIAN
METHOD:PUBLISH
UID:e6f13b04-59e6-4231-b715-c5a9ccd8b28a
X-WR-CALDESC:Join us in making a positive impact on our environment by part
 icipating in a SIMULTANEOUS cleanup event along the waterways of the Pined
 a Causeway. \n\nThe Land Team will focus on accessible local spots along t
 he waterways\, traversing on foot to collect debris and restore these area
 s. Meanwhile\, the Water/Embankment Team will tackle more challenging loca
 tions. Volunteers for this team will drive to designated access points and
  then be ferried by boat to steep embankments featuring a mix of concrete\
 , dirt\, grass\, and vegetation.\n\nBoth teams play a vital role in preser
 ving the beauty and health of our waterways—your participation makes all t
 he difference!\n\nWHAT TO BRING:  WEAR CLOSED-TOED SHOES\, BRING GLOVES AN
 D YOUR OWN HYDRATION.  We supply everything else.\n\nWHERE TO MEET:  Meet 
 under the overpass of SR404 Pineda Causeway off the S Tropical Trail exit
 \n
X-WR-RELCALID:8e918f821cf651c2fe926b792c5a777e
X-WR-TIMEZONE:America/New_York
BEGIN:VTIMEZONE
TZID:America/New_York
BEGIN:STANDARD
TZNAME:EST
DTSTART:20241103T020000
TZOFFSETFROM:-0400
TZOFFSETTO:-0500
RDATE:20251102T020000
END:STANDARD
BEGIN:DAYLIGHT
TZNAME:EDT
DTSTART:20240310T020000
TZOFFSETFROM:-0500
TZOFFSETTO:-0400
RDATE:20250309T020000
RDATE:20260308T020000
END:DAYLIGHT
END:VTIMEZONE
BEGIN:VEVENT
UID:e7303876-8374-444f-97aa-b8de52afc062
DTSTAMP:20260419T191135Z
DESCRIPTION:Join us in making a positive impact on our environment by parti
 cipating in a SIMULTANEOUS cleanup event along the waterways of the Pineda
  Causeway. \n\nThe Land Team will focus on accessible local spots along th
 e waterways\, traversing on foot to collect debris and restore these areas
 . Meanwhile\, the Water/Embankment Team will tackle more challenging locat
 ions. Volunteers for this team will drive to designated access points and 
 then be ferried by boat to steep embankments featuring a mix of concrete\,
  dirt\, grass\, and vegetation.\n\nBoth teams play a vital role in preserv
 ing the beauty and health of our waterways—your participation makes all th
 e difference!\n\nWHAT TO BRING:  WEAR CLOSED-TOED SHOES\, BRING GLOVES AND
  YOUR OWN HYDRATION.  We supply everything else.\n\nWHERE TO MEET:  Meet u
 nder the overpass of SR404 Pineda Causeway off the S Tropical Trail exit\n
DTSTART;TZID=America/New_York:20250125T080000
DTEND;TZID=America/New_York:20250125T100000
LOCATION:
SUMMARY:Group Cleanup - Pineda Cswy AND Embankment Cleanup (land and water 
 simultaneously)
END:VEVENT
END:VCALENDAR
