BEGIN:VCALENDAR
VERSION:2.0
PRODID:-//waterwaywarriorsfl.org//NONSGML kigkonsult.se iCalcreator 2.30.10
 //
CALSCALE:GREGORIAN
METHOD:PUBLISH
UID:440a6034-d53f-4c12-a525-9c36d9ed1338
X-WR-CALDESC:Join us in this cleanup event\, proudly coordinated in partner
 ship with the Rotary Club\, which brings together community members and Ro
 tarians making a lasting impact along the waterways of the Eau Gallie Caus
 eway. Whether you're a seasoned eco-warrior or a first-time volunteer\, yo
 ur efforts protect marine life\, and keep our local waterways looking thei
 r best.\n\nWHAT TO BRING:  WEAR CLOSED-TOED SHOES\, BRING GLOVES AND YOUR 
 OWN HYDRATION.  We supply everything else.\n\nWHERE TO MEET: Meet in the p
 arking lot of the Eau Gallie Boat Launch off the Eau Gallie Causeway\, 41 
 E Eau Gallie Blvd\, Melbourne\, FL 32937\n
X-WR-RELCALID:22c7b9cc591b8a0d83e2f63f37101df8
X-WR-TIMEZONE:America/New_York
BEGIN:VTIMEZONE
TZID:America/New_York
BEGIN:STANDARD
TZNAME:EST
DTSTART:20241103T020000
TZOFFSETFROM:-0400
TZOFFSETTO:-0500
RDATE:20251102T020000
END:STANDARD
BEGIN:DAYLIGHT
TZNAME:EDT
DTSTART:20240310T020000
TZOFFSETFROM:-0500
TZOFFSETTO:-0400
RDATE:20250309T020000
RDATE:20260308T020000
END:DAYLIGHT
END:VTIMEZONE
BEGIN:VEVENT
UID:8c7cd9fe-e556-42d8-896f-d2fdc02bf799
DTSTAMP:20260419T190728Z
DESCRIPTION:Join us in this cleanup event\, proudly coordinated in partners
 hip with the Rotary Club\, which brings together community members and Rot
 arians making a lasting impact along the waterways of the Eau Gallie Cause
 way. Whether you're a seasoned eco-warrior or a first-time volunteer\, you
 r efforts protect marine life\, and keep our local waterways looking their
  best.\n\nWHAT TO BRING:  WEAR CLOSED-TOED SHOES\, BRING GLOVES AND YOUR O
 WN HYDRATION.  We supply everything else.\n\nWHERE TO MEET: Meet in the pa
 rking lot of the Eau Gallie Boat Launch off the Eau Gallie Causeway\, 41 E
  Eau Gallie Blvd\, Melbourne\, FL 32937\n
DTSTART;TZID=America/New_York:20250111T080000
DTEND;TZID=America/New_York:20250111T100000
LOCATION:41 E Eau Gallie Blvd\, \, Melbourne\, FL 32937 US
SUMMARY:Group Cleanup - Eau Gallie Cswy with Indialantic Rotary
END:VEVENT
END:VCALENDAR
