BEGIN:VCALENDAR
VERSION:2.0
PRODID:-//waterwaywarriorsfl.org//NONSGML kigkonsult.se iCalcreator 2.30.10
 //
CALSCALE:GREGORIAN
METHOD:PUBLISH
UID:79f52e9b-edeb-4b8f-917a-7ee9e5185cc7
X-WR-CALDESC:
X-WR-RELCALID:576234c1478cc2c626b051bb03aef415
X-WR-TIMEZONE:America/New_York
BEGIN:VTIMEZONE
TZID:America/New_York
BEGIN:STANDARD
TZNAME:EST
DTSTART:20241103T020000
TZOFFSETFROM:-0400
TZOFFSETTO:-0500
RDATE:20251102T020000
END:STANDARD
BEGIN:DAYLIGHT
TZNAME:EDT
DTSTART:20240310T020000
TZOFFSETFROM:-0500
TZOFFSETTO:-0400
RDATE:20250309T020000
RDATE:20260308T020000
END:DAYLIGHT
END:VTIMEZONE
BEGIN:VEVENT
UID:6c1bc80e-6e49-4da9-bebf-e24e0490e32e
DTSTAMP:20260419T201133Z
DESCRIPTION:
DTSTART;TZID=America/New_York:20241228T080000
DTEND;TZID=America/New_York:20241228T100000
LOCATION:
SUMMARY:Group Cleanup - CANCELLED
END:VEVENT
END:VCALENDAR
