BEGIN:VCALENDAR
VERSION:2.0
PRODID:-//waterwaywarriorsfl.org//NONSGML kigkonsult.se iCalcreator 2.30.10
 //
CALSCALE:GREGORIAN
METHOD:PUBLISH
UID:ad75728a-ebb4-4e5e-ba8a-72b555f67277
X-WR-CALDESC:MAKE SURE TO WEAR CLOSED-TOED SHOES AND GLOVES...LONG PANTS AR
 E SUGGESTED
X-WR-RELCALID:af7e17d89054af39850ac3a0666e0981
X-WR-TIMEZONE:America/New_York
BEGIN:VTIMEZONE
TZID:America/New_York
BEGIN:STANDARD
TZNAME:EST
DTSTART:20241103T020000
TZOFFSETFROM:-0400
TZOFFSETTO:-0500
RDATE:20251102T020000
END:STANDARD
BEGIN:DAYLIGHT
TZNAME:EDT
DTSTART:20240310T020000
TZOFFSETFROM:-0500
TZOFFSETTO:-0400
RDATE:20250309T020000
RDATE:20260308T020000
END:DAYLIGHT
END:VTIMEZONE
BEGIN:VEVENT
UID:004c945a-e596-4279-a5cd-7f3fc0bddb2a
DTSTAMP:20260419T201133Z
DESCRIPTION:MAKE SURE TO WEAR CLOSED-TOED SHOES AND GLOVES...LONG PANTS ARE
  SUGGESTED
DTSTART;TZID=America/New_York:20241214T080000
DTEND;TZID=America/New_York:20241214T100000
LOCATION:3700 N Harbor City Blvd\, Melboune\, FL 32935 US
SUMMARY:Group Cleanup - Horse Creek- ALL HANDS NEEDED!
END:VEVENT
END:VCALENDAR
