BEGIN:VCALENDAR
VERSION:2.0
PRODID:-//waterwaywarriorsfl.org//NONSGML kigkonsult.se iCalcreator 2.30.10
 //
CALSCALE:GREGORIAN
METHOD:PUBLISH
UID:9de78296-1b2d-4118-830b-939e56b5c041
X-WR-CALDESC:
X-WR-RELCALID:04eaac5204e04c5f9a9903331f41da0f
X-WR-TIMEZONE:America/New_York
BEGIN:VTIMEZONE
TZID:America/New_York
BEGIN:STANDARD
TZNAME:EST
DTSTART:20241103T020000
TZOFFSETFROM:-0400
TZOFFSETTO:-0500
RDATE:20251102T020000
END:STANDARD
BEGIN:DAYLIGHT
TZNAME:EDT
DTSTART:20240310T020000
TZOFFSETFROM:-0500
TZOFFSETTO:-0400
RDATE:20250309T020000
RDATE:20260308T020000
END:DAYLIGHT
END:VTIMEZONE
BEGIN:VEVENT
UID:4e5403f0-a9b2-4ca8-82a4-a6b8e0530665
DTSTAMP:20260419T213615Z
DESCRIPTION:
DTSTART;TZID=America/New_York:20241123T080000
DTEND;TZID=America/New_York:20241123T100000
LOCATION:S Tropical Trail exit off Pineda Causeway SR404
SUMMARY:Group Cleanup - Pineda Causeway
END:VEVENT
END:VCALENDAR
