BEGIN:VCALENDAR
VERSION:2.0
PRODID:-//waterwaywarriorsfl.org//NONSGML kigkonsult.se iCalcreator 2.30.10
 //
CALSCALE:GREGORIAN
METHOD:PUBLISH
UID:fca76337-f409-4099-8301-c23f7c4c25ad
X-WR-CALDESC:
X-WR-RELCALID:5fd79941ca6c0b0fd65c673116ba5ba8
X-WR-TIMEZONE:America/New_York
BEGIN:VTIMEZONE
TZID:America/New_York
BEGIN:STANDARD
TZNAME:EST
DTSTART:20241103T020000
TZOFFSETFROM:-0400
TZOFFSETTO:-0500
RDATE:20251102T020000
END:STANDARD
BEGIN:DAYLIGHT
TZNAME:EDT
DTSTART:20240310T020000
TZOFFSETFROM:-0500
TZOFFSETTO:-0400
RDATE:20250309T020000
RDATE:20260308T020000
END:DAYLIGHT
END:VTIMEZONE
BEGIN:VEVENT
UID:240d7205-6ba7-4260-9c09-a7d9fc2ef268
DTSTAMP:20260419T213043Z
DESCRIPTION:
DTSTART;TZID=America/New_York:20241123T080000
DTEND;TZID=America/New_York:20241123T100000
LOCATION:3700 N Harbor City Blvd\, Melbourne\, FL 32935 US
SUMMARY:Group Cleanup - Horse Creek
END:VEVENT
END:VCALENDAR
