BEGIN:VCALENDAR
VERSION:2.0
PRODID:-//waterwaywarriorsfl.org//NONSGML kigkonsult.se iCalcreator 2.30.10
 //
CALSCALE:GREGORIAN
METHOD:PUBLISH
UID:27d8aaac-21a7-46e5-add3-6ddb3a6719d6
X-WR-CALDESC:
X-WR-RELCALID:9628af190a022793efa06f7f1f7280b4
X-WR-TIMEZONE:America/New_York
BEGIN:VTIMEZONE
TZID:America/New_York
BEGIN:STANDARD
TZNAME:EST
DTSTART:20241103T020000
TZOFFSETFROM:-0400
TZOFFSETTO:-0500
RDATE:20251102T020000
END:STANDARD
BEGIN:DAYLIGHT
TZNAME:EDT
DTSTART:20240310T020000
TZOFFSETFROM:-0500
TZOFFSETTO:-0400
RDATE:20250309T020000
RDATE:20260308T020000
END:DAYLIGHT
END:VTIMEZONE
BEGIN:VEVENT
UID:287e9780-e860-47cc-a0fe-3ebc559859a4
DTSTAMP:20260419T213713Z
DESCRIPTION:
DTSTART;TZID=America/New_York:20241109T100000
DTEND;TZID=America/New_York:20241109T140000
LOCATION:2210 Front Street\, Melbourne\, FL 32901 US
SUMMARY:Indian River Lagoon Day
END:VEVENT
END:VCALENDAR
