BEGIN:VCALENDAR
VERSION:2.0
PRODID:-//waterwaywarriorsfl.org//NONSGML kigkonsult.se iCalcreator 2.30.10
 //
CALSCALE:GREGORIAN
METHOD:PUBLISH
UID:cedcfa84-ac7b-44ef-9131-90f7fc43ac3b
X-WR-CALDESC:
X-WR-RELCALID:cade7f693595679437f9f613a2cd8b03
X-WR-TIMEZONE:America/New_York
BEGIN:VTIMEZONE
TZID:America/New_York
BEGIN:STANDARD
TZNAME:EST
DTSTART:20241103T020000
TZOFFSETFROM:-0400
TZOFFSETTO:-0500
RDATE:20251102T020000
END:STANDARD
BEGIN:DAYLIGHT
TZNAME:EDT
DTSTART:20240310T020000
TZOFFSETFROM:-0500
TZOFFSETTO:-0400
RDATE:20250309T020000
RDATE:20260308T020000
END:DAYLIGHT
END:VTIMEZONE
BEGIN:VEVENT
UID:07929a99-7a07-4f42-9127-2b0f5e12dd4e
DTSTAMP:20260419T213745Z
DESCRIPTION:
DTSTART;TZID=America/New_York:20241109T080000
DTEND;TZID=America/New_York:20241109T100000
LOCATION:S Tropical Trail exit off Pineda Causeway SR404
SUMMARY:Group Cleanup - Pineda Causeway - Nail Sweeping & Weed Line
END:VEVENT
END:VCALENDAR
