BEGIN:VCALENDAR
VERSION:2.0
PRODID:-//waterwaywarriorsfl.org//NONSGML kigkonsult.se iCalcreator 2.30.10
 //
CALSCALE:GREGORIAN
METHOD:PUBLISH
UID:117aeacd-106c-40d2-af84-28ea01fe411a
X-WR-CALDESC:
X-WR-RELCALID:50565f24f2add73e4c61b518235bec7d
X-WR-TIMEZONE:America/New_York
BEGIN:VTIMEZONE
TZID:America/New_York
BEGIN:STANDARD
TZNAME:EST
DTSTART:20231105T020000
TZOFFSETFROM:-0400
TZOFFSETTO:-0500
RDATE:20241103T020000
RDATE:20251102T020000
END:STANDARD
BEGIN:DAYLIGHT
TZNAME:EDT
DTSTART:20240310T020000
TZOFFSETFROM:-0500
TZOFFSETTO:-0400
RDATE:20250309T020000
RDATE:20260308T020000
END:DAYLIGHT
END:VTIMEZONE
BEGIN:VEVENT
UID:a5fd4df6-ddde-4537-865c-dff3ae980928
DTSTAMP:20260419T213713Z
DESCRIPTION:
DTSTART;TZID=America/New_York:20241102T080000
DTEND;TZID=America/New_York:20241102T120000
LOCATION:1500 N Atlantic Ave\, Cocoa Beach\, FL 32931 US
SUMMARY:Surfrider Beach Cleanup
END:VEVENT
END:VCALENDAR
