BEGIN:VCALENDAR
VERSION:2.0
PRODID:-//waterwaywarriorsfl.org//NONSGML kigkonsult.se iCalcreator 2.30.10
 //
CALSCALE:GREGORIAN
METHOD:PUBLISH
UID:d988649e-b2e8-4632-afa9-0eaec208a511
X-WR-CALDESC:Staging under the S Tropical Trail overpass off the Pineda Cau
 seway https://maps.app.goo.gl/E16ZXAy2x68XVcW56
X-WR-RELCALID:a8db4a47146be4a6ab141053f77afa93
X-WR-TIMEZONE:America/New_York
BEGIN:VTIMEZONE
TZID:America/New_York
BEGIN:STANDARD
TZNAME:EST
DTSTART:20231105T020000
TZOFFSETFROM:-0400
TZOFFSETTO:-0500
RDATE:20241103T020000
RDATE:20251102T020000
END:STANDARD
BEGIN:DAYLIGHT
TZNAME:EDT
DTSTART:20240310T020000
TZOFFSETFROM:-0500
TZOFFSETTO:-0400
RDATE:20250309T020000
RDATE:20260308T020000
END:DAYLIGHT
END:VTIMEZONE
BEGIN:VEVENT
UID:db2838e1-3b19-4368-a0ba-ec4c679ac8af
DTSTAMP:20260419T230242Z
DESCRIPTION:Staging under the S Tropical Trail overpass off the Pineda Caus
 eway https://maps.app.goo.gl/E16ZXAy2x68XVcW56
DTSTART;TZID=America/New_York:20241012T080000
DTEND;TZID=America/New_York:20241012T100000
LOCATION:https://maps.app.goo.gl/E16ZXAy2x68XVcW56
SUMMARY:Embankment Cleanup via Boat AND Pineda Group Cleanup
END:VEVENT
END:VCALENDAR
