BEGIN:VCALENDAR
VERSION:2.0
PRODID:-//waterwaywarriorsfl.org//NONSGML kigkonsult.se iCalcreator 2.30.10
 //
CALSCALE:GREGORIAN
METHOD:PUBLISH
UID:3b45a17a-308e-41dd-9318-7af59e075e53
X-WR-CALDESC:
X-WR-RELCALID:1a76ce876d2d987daa62b9593b7c7ddd
X-WR-TIMEZONE:America/New_York
BEGIN:VTIMEZONE
TZID:America/New_York
BEGIN:STANDARD
TZNAME:EST
DTSTART:20231105T020000
TZOFFSETFROM:-0400
TZOFFSETTO:-0500
RDATE:20241103T020000
RDATE:20251102T020000
END:STANDARD
BEGIN:DAYLIGHT
TZNAME:EDT
DTSTART:20240310T020000
TZOFFSETFROM:-0500
TZOFFSETTO:-0400
RDATE:20250309T020000
RDATE:20260308T020000
END:DAYLIGHT
END:VTIMEZONE
BEGIN:VEVENT
UID:a67335d9-5f67-4a5e-99a4-0e0497805f49
DTSTAMP:20260420T003117Z
DESCRIPTION:
DTSTART;TZID=America/New_York:20240921T080000
DTEND;TZID=America/New_York:20240921T120000
LOCATION:https://maps.app.goo.gl/rjyNt41B4Ytx8YDP7
SUMMARY:International Coastal Cleanup
END:VEVENT
END:VCALENDAR
