BEGIN:VCALENDAR
VERSION:2.0
PRODID:-//waterwaywarriorsfl.org//NONSGML kigkonsult.se iCalcreator 2.30.10
 //
CALSCALE:GREGORIAN
METHOD:PUBLISH
UID:c7292661-5d68-4cfe-aed7-32cc25ad7103
X-WR-CALDESC:https://maps.app.goo.gl/UmPyGPQAq6SfSBeZ7
X-WR-RELCALID:f2b6dcbe38bda11df712f65b17e64732
X-WR-TIMEZONE:America/New_York
BEGIN:VTIMEZONE
TZID:America/New_York
BEGIN:STANDARD
TZNAME:EST
DTSTART:20231105T020000
TZOFFSETFROM:-0400
TZOFFSETTO:-0500
RDATE:20241103T020000
RDATE:20251102T020000
END:STANDARD
BEGIN:DAYLIGHT
TZNAME:EDT
DTSTART:20240310T020000
TZOFFSETFROM:-0500
TZOFFSETTO:-0400
RDATE:20250309T020000
END:DAYLIGHT
END:VTIMEZONE
BEGIN:VEVENT
UID:1e7d7ab2-1166-4e49-922b-1c3242a5a638
DTSTAMP:20260420T015752Z
DESCRIPTION:https://maps.app.goo.gl/UmPyGPQAq6SfSBeZ7
DTSTART;TZID=America/New_York:20240810T080000
DTEND;TZID=America/New_York:20240810T100000
LOCATION:Staging under the S Tropical Trail exit off SR 404 (Pineda Causewa
 y)
SUMMARY:Group Cleanup - Pineda
END:VEVENT
END:VCALENDAR
