BEGIN:VCALENDAR
VERSION:2.0
PRODID:-//waterwaywarriorsfl.org//NONSGML kigkonsult.se iCalcreator 2.30.10
 //
CALSCALE:GREGORIAN
METHOD:PUBLISH
UID:5af306b4-212b-4dc0-a390-afbab937b9d7
X-WR-CALDESC:https://maps.app.goo.gl/rMTxp2tB8kr1bJYZ9
X-WR-RELCALID:e08cc64644ae27301c9d0a625d94fb57
X-WR-TIMEZONE:America/New_York
BEGIN:VTIMEZONE
TZID:America/New_York
BEGIN:STANDARD
TZNAME:EST
DTSTART:20231105T020000
TZOFFSETFROM:-0400
TZOFFSETTO:-0500
RDATE:20241103T020000
RDATE:20251102T020000
END:STANDARD
BEGIN:DAYLIGHT
TZNAME:EDT
DTSTART:20240310T020000
TZOFFSETFROM:-0500
TZOFFSETTO:-0400
RDATE:20250309T020000
END:DAYLIGHT
END:VTIMEZONE
BEGIN:VEVENT
UID:e4d6998b-1580-45b6-a34d-8b061859ae46
DTSTAMP:20260420T015507Z
DESCRIPTION:https://maps.app.goo.gl/rMTxp2tB8kr1bJYZ9
DTSTART;TZID=America/New_York:20240810T080000
DTEND;TZID=America/New_York:20240810T100000
LOCATION:Staging at the Harbor City Professional Building
SUMMARY:Group Cleanup Horse Creek
END:VEVENT
END:VCALENDAR
